BEGIN:VCALENDAR
VERSION:2.0
PRODID:-//Buffalo Field Archery Club - ECPv6.15.20//NONSGML v1.0//EN
CALSCALE:GREGORIAN
METHOD:PUBLISH
X-WR-CALNAME:Buffalo Field Archery Club
X-ORIGINAL-URL:https://buffalofield.org
X-WR-CALDESC:Events for Buffalo Field Archery Club
REFRESH-INTERVAL;VALUE=DURATION:PT1H
X-Robots-Tag:noindex
X-PUBLISHED-TTL:PT1H
BEGIN:VTIMEZONE
TZID:America/Chicago
BEGIN:DAYLIGHT
TZOFFSETFROM:-0600
TZOFFSETTO:-0500
TZNAME:CDT
DTSTART:20200308T080000
END:DAYLIGHT
BEGIN:STANDARD
TZOFFSETFROM:-0500
TZOFFSETTO:-0600
TZNAME:CST
DTSTART:20201101T070000
END:STANDARD
BEGIN:DAYLIGHT
TZOFFSETFROM:-0600
TZOFFSETTO:-0500
TZNAME:CDT
DTSTART:20210314T080000
END:DAYLIGHT
BEGIN:STANDARD
TZOFFSETFROM:-0500
TZOFFSETTO:-0600
TZNAME:CST
DTSTART:20211107T070000
END:STANDARD
BEGIN:DAYLIGHT
TZOFFSETFROM:-0600
TZOFFSETTO:-0500
TZNAME:CDT
DTSTART:20220313T080000
END:DAYLIGHT
BEGIN:STANDARD
TZOFFSETFROM:-0500
TZOFFSETTO:-0600
TZNAME:CST
DTSTART:20221106T070000
END:STANDARD
BEGIN:DAYLIGHT
TZOFFSETFROM:-0600
TZOFFSETTO:-0500
TZNAME:CDT
DTSTART:20230312T080000
END:DAYLIGHT
BEGIN:STANDARD
TZOFFSETFROM:-0500
TZOFFSETTO:-0600
TZNAME:CST
DTSTART:20231105T070000
END:STANDARD
END:VTIMEZONE
BEGIN:VEVENT
DTSTART;TZID=America/Chicago:20220219T080000
DTEND;TZID=America/Chicago:20220219T120000
DTSTAMP:20260420T001101
CREATED:20210417T152401Z
LAST-MODIFIED:20210417T153155Z
UID:10000099-1645257600-1645272000@buffalofield.org
SUMMARY:Houston Area Outdoor JOAD - World Archery Range
DESCRIPTION:
URL:https://buffalofield.org/event/houston-area-outdoor-joad/2022-02-19/
LOCATION:Buffalo Archery Field\, 13155 Clay Rd\, Houston\, TX\, 77084\, United States
END:VEVENT
BEGIN:VEVENT
DTSTART;TZID=America/Chicago:20220212T080000
DTEND;TZID=America/Chicago:20220212T120000
DTSTAMP:20260420T001101
CREATED:20210417T152401Z
LAST-MODIFIED:20210417T153155Z
UID:10000098-1644652800-1644667200@buffalofield.org
SUMMARY:Houston Area Outdoor JOAD - World Archery Range
DESCRIPTION:
URL:https://buffalofield.org/event/houston-area-outdoor-joad/2022-02-12/
LOCATION:Buffalo Archery Field\, 13155 Clay Rd\, Houston\, TX\, 77084\, United States
END:VEVENT
BEGIN:VEVENT
DTSTART;TZID=America/Chicago:20220205T080000
DTEND;TZID=America/Chicago:20220205T120000
DTSTAMP:20260420T001101
CREATED:20210417T152401Z
LAST-MODIFIED:20210417T153155Z
UID:10000097-1644048000-1644062400@buffalofield.org
SUMMARY:Houston Area Outdoor JOAD - World Archery Range
DESCRIPTION:
URL:https://buffalofield.org/event/houston-area-outdoor-joad/2022-02-05/
LOCATION:Buffalo Archery Field\, 13155 Clay Rd\, Houston\, TX\, 77084\, United States
END:VEVENT
BEGIN:VEVENT
DTSTART;TZID=America/Chicago:20220205T080000
DTEND;TZID=America/Chicago:20220205T090000
DTSTAMP:20260420T001101
CREATED:20210405T032241Z
LAST-MODIFIED:20210505T002917Z
UID:10000038-1644048000-1644051600@buffalofield.org
SUMMARY:Monthly Club Meeting
DESCRIPTION:BFAC Monthly Club meeting\nOpen to all members and non members \n\nHave an idea for the club\nWant to get involved\nNeed information about becoming a member\n\nThis is your place to be heard. We love fresh ideas and to meet with all of the members. \nCome join us in person at the main Pavilion at 8:00 AM on the first Saturday of every month.\nKeep an eye out for the meeting agenda email the week of the upcoming meeting. \nCan’t make it? Join us virtually using the Zoom link below:\nZoom meeting \n  \nSee you there! \n-BFAC-
URL:https://buffalofield.org/event/monthly-club-meeting-2/2022-02-05/
LOCATION:Buffalo Archery Field\, 13155 Clay Rd\, Houston\, TX\, 77084\, United States
END:VEVENT
BEGIN:VEVENT
DTSTART;TZID=America/Chicago:20220129T080000
DTEND;TZID=America/Chicago:20220129T120000
DTSTAMP:20260420T001101
CREATED:20210417T152401Z
LAST-MODIFIED:20210417T153155Z
UID:10000096-1643443200-1643457600@buffalofield.org
SUMMARY:Houston Area Outdoor JOAD - World Archery Range
DESCRIPTION:
URL:https://buffalofield.org/event/houston-area-outdoor-joad/2022-01-29/
LOCATION:Buffalo Archery Field\, 13155 Clay Rd\, Houston\, TX\, 77084\, United States
END:VEVENT
BEGIN:VEVENT
DTSTART;TZID=America/Chicago:20220122T080000
DTEND;TZID=America/Chicago:20220122T120000
DTSTAMP:20260420T001101
CREATED:20210417T152401Z
LAST-MODIFIED:20210417T153155Z
UID:10000095-1642838400-1642852800@buffalofield.org
SUMMARY:Houston Area Outdoor JOAD - World Archery Range
DESCRIPTION:
URL:https://buffalofield.org/event/houston-area-outdoor-joad/2022-01-22/
LOCATION:Buffalo Archery Field\, 13155 Clay Rd\, Houston\, TX\, 77084\, United States
END:VEVENT
BEGIN:VEVENT
DTSTART;TZID=America/Chicago:20220116T090000
DTEND;TZID=America/Chicago:20220116T133000
DTSTAMP:20260420T001101
CREATED:20220102T232418Z
LAST-MODIFIED:20220206T201904Z
UID:10000001-1642323600-1642339800@buffalofield.org
SUMMARY:BFAC 3D Club Shoot
DESCRIPTION:Buffalo Field Archery Club Monthly Shoot \n  \n8am – Trad Start Time \n9am – Shotgun Start
URL:https://buffalofield.org/event/bfac-3d-club-shoot-2/2022-01-16/
LOCATION:Buffalo Archery Field\, 13155 Clay Rd\, Houston\, TX\, 77084\, United States
END:VEVENT
BEGIN:VEVENT
DTSTART;TZID=America/Chicago:20220115T080000
DTEND;TZID=America/Chicago:20220115T120000
DTSTAMP:20260420T001101
CREATED:20210417T152401Z
LAST-MODIFIED:20210417T153155Z
UID:10000094-1642233600-1642248000@buffalofield.org
SUMMARY:Houston Area Outdoor JOAD - World Archery Range
DESCRIPTION:
URL:https://buffalofield.org/event/houston-area-outdoor-joad/2022-01-15/
LOCATION:Buffalo Archery Field\, 13155 Clay Rd\, Houston\, TX\, 77084\, United States
END:VEVENT
BEGIN:VEVENT
DTSTART;TZID=America/Chicago:20220108T080000
DTEND;TZID=America/Chicago:20220108T120000
DTSTAMP:20260420T001101
CREATED:20210417T152401Z
LAST-MODIFIED:20210417T153155Z
UID:10000093-1641628800-1641643200@buffalofield.org
SUMMARY:Houston Area Outdoor JOAD - World Archery Range
DESCRIPTION:
URL:https://buffalofield.org/event/houston-area-outdoor-joad/2022-01-08/
LOCATION:Buffalo Archery Field\, 13155 Clay Rd\, Houston\, TX\, 77084\, United States
END:VEVENT
BEGIN:VEVENT
DTSTART;TZID=America/Chicago:20220101T080000
DTEND;TZID=America/Chicago:20220101T120000
DTSTAMP:20260420T001101
CREATED:20210417T152401Z
LAST-MODIFIED:20210417T153155Z
UID:10000092-1641024000-1641038400@buffalofield.org
SUMMARY:Houston Area Outdoor JOAD - World Archery Range
DESCRIPTION:
URL:https://buffalofield.org/event/houston-area-outdoor-joad/2022-01-01/
LOCATION:Buffalo Archery Field\, 13155 Clay Rd\, Houston\, TX\, 77084\, United States
END:VEVENT
BEGIN:VEVENT
DTSTART;TZID=America/Chicago:20220101T080000
DTEND;TZID=America/Chicago:20220101T090000
DTSTAMP:20260420T001101
CREATED:20210405T032241Z
LAST-MODIFIED:20210505T002917Z
UID:10000037-1641024000-1641027600@buffalofield.org
SUMMARY:Monthly Club Meeting
DESCRIPTION:BFAC Monthly Club meeting\nOpen to all members and non members \n\nHave an idea for the club\nWant to get involved\nNeed information about becoming a member\n\nThis is your place to be heard. We love fresh ideas and to meet with all of the members. \nCome join us in person at the main Pavilion at 8:00 AM on the first Saturday of every month.\nKeep an eye out for the meeting agenda email the week of the upcoming meeting. \nCan’t make it? Join us virtually using the Zoom link below:\nZoom meeting \n  \nSee you there! \n-BFAC-
URL:https://buffalofield.org/event/monthly-club-meeting-2/2022-01-01/
LOCATION:Buffalo Archery Field\, 13155 Clay Rd\, Houston\, TX\, 77084\, United States
END:VEVENT
BEGIN:VEVENT
DTSTART;TZID=America/Chicago:20211225T080000
DTEND;TZID=America/Chicago:20211225T120000
DTSTAMP:20260420T001101
CREATED:20210417T152401Z
LAST-MODIFIED:20210417T153155Z
UID:10000091-1640419200-1640433600@buffalofield.org
SUMMARY:Houston Area Outdoor JOAD - World Archery Range
DESCRIPTION:
URL:https://buffalofield.org/event/houston-area-outdoor-joad/2021-12-25/
LOCATION:Buffalo Archery Field\, 13155 Clay Rd\, Houston\, TX\, 77084\, United States
END:VEVENT
BEGIN:VEVENT
DTSTART;TZID=America/Chicago:20211218T080000
DTEND;TZID=America/Chicago:20211218T120000
DTSTAMP:20260420T001101
CREATED:20210417T152401Z
LAST-MODIFIED:20210417T153155Z
UID:10000090-1639814400-1639828800@buffalofield.org
SUMMARY:Houston Area Outdoor JOAD - World Archery Range
DESCRIPTION:
URL:https://buffalofield.org/event/houston-area-outdoor-joad/2021-12-18/
LOCATION:Buffalo Archery Field\, 13155 Clay Rd\, Houston\, TX\, 77084\, United States
END:VEVENT
BEGIN:VEVENT
DTSTART;TZID=America/Chicago:20211211T080000
DTEND;TZID=America/Chicago:20211211T120000
DTSTAMP:20260420T001101
CREATED:20210417T152401Z
LAST-MODIFIED:20210417T153155Z
UID:10000089-1639209600-1639224000@buffalofield.org
SUMMARY:Houston Area Outdoor JOAD - World Archery Range
DESCRIPTION:
URL:https://buffalofield.org/event/houston-area-outdoor-joad/2021-12-11/
LOCATION:Buffalo Archery Field\, 13155 Clay Rd\, Houston\, TX\, 77084\, United States
END:VEVENT
BEGIN:VEVENT
DTSTART;TZID=America/Chicago:20211204T080000
DTEND;TZID=America/Chicago:20211204T120000
DTSTAMP:20260420T001101
CREATED:20210417T152401Z
LAST-MODIFIED:20210417T153155Z
UID:10000088-1638604800-1638619200@buffalofield.org
SUMMARY:Houston Area Outdoor JOAD - World Archery Range
DESCRIPTION:
URL:https://buffalofield.org/event/houston-area-outdoor-joad/2021-12-04/
LOCATION:Buffalo Archery Field\, 13155 Clay Rd\, Houston\, TX\, 77084\, United States
END:VEVENT
BEGIN:VEVENT
DTSTART;TZID=America/Chicago:20211204T080000
DTEND;TZID=America/Chicago:20211204T090000
DTSTAMP:20260420T001101
CREATED:20210405T032241Z
LAST-MODIFIED:20210505T002917Z
UID:10000036-1638604800-1638608400@buffalofield.org
SUMMARY:Monthly Club Meeting
DESCRIPTION:BFAC Monthly Club meeting\nOpen to all members and non members \n\nHave an idea for the club\nWant to get involved\nNeed information about becoming a member\n\nThis is your place to be heard. We love fresh ideas and to meet with all of the members. \nCome join us in person at the main Pavilion at 8:00 AM on the first Saturday of every month.\nKeep an eye out for the meeting agenda email the week of the upcoming meeting. \nCan’t make it? Join us virtually using the Zoom link below:\nZoom meeting \n  \nSee you there! \n-BFAC-
URL:https://buffalofield.org/event/monthly-club-meeting-2/2021-12-04/
LOCATION:Buffalo Archery Field\, 13155 Clay Rd\, Houston\, TX\, 77084\, United States
END:VEVENT
BEGIN:VEVENT
DTSTART;TZID=America/Chicago:20211127T080000
DTEND;TZID=America/Chicago:20211127T120000
DTSTAMP:20260420T001101
CREATED:20210417T152401Z
LAST-MODIFIED:20210417T153155Z
UID:10000087-1638000000-1638014400@buffalofield.org
SUMMARY:Houston Area Outdoor JOAD - World Archery Range
DESCRIPTION:
URL:https://buffalofield.org/event/houston-area-outdoor-joad/2021-11-27/
LOCATION:Buffalo Archery Field\, 13155 Clay Rd\, Houston\, TX\, 77084\, United States
END:VEVENT
BEGIN:VEVENT
DTSTART;TZID=America/Chicago:20211120T080000
DTEND;TZID=America/Chicago:20211120T120000
DTSTAMP:20260420T001101
CREATED:20210417T152401Z
LAST-MODIFIED:20210417T153155Z
UID:10000086-1637395200-1637409600@buffalofield.org
SUMMARY:Houston Area Outdoor JOAD - World Archery Range
DESCRIPTION:
URL:https://buffalofield.org/event/houston-area-outdoor-joad/2021-11-20/
LOCATION:Buffalo Archery Field\, 13155 Clay Rd\, Houston\, TX\, 77084\, United States
END:VEVENT
BEGIN:VEVENT
DTSTART;TZID=America/Chicago:20211113T080000
DTEND;TZID=America/Chicago:20211113T120000
DTSTAMP:20260420T001101
CREATED:20210417T152401Z
LAST-MODIFIED:20210417T153155Z
UID:10000085-1636790400-1636804800@buffalofield.org
SUMMARY:Houston Area Outdoor JOAD - World Archery Range
DESCRIPTION:
URL:https://buffalofield.org/event/houston-area-outdoor-joad/2021-11-13/
LOCATION:Buffalo Archery Field\, 13155 Clay Rd\, Houston\, TX\, 77084\, United States
END:VEVENT
BEGIN:VEVENT
DTSTART;TZID=America/Chicago:20211106T080000
DTEND;TZID=America/Chicago:20211106T120000
DTSTAMP:20260420T001101
CREATED:20210417T152401Z
LAST-MODIFIED:20210417T153155Z
UID:10000084-1636185600-1636200000@buffalofield.org
SUMMARY:Houston Area Outdoor JOAD - World Archery Range
DESCRIPTION:
URL:https://buffalofield.org/event/houston-area-outdoor-joad/2021-11-06/
LOCATION:Buffalo Archery Field\, 13155 Clay Rd\, Houston\, TX\, 77084\, United States
END:VEVENT
BEGIN:VEVENT
DTSTART;TZID=America/Chicago:20211106T080000
DTEND;TZID=America/Chicago:20211106T090000
DTSTAMP:20260420T001101
CREATED:20210405T032241Z
LAST-MODIFIED:20210505T002917Z
UID:10000035-1636185600-1636189200@buffalofield.org
SUMMARY:Monthly Club Meeting
DESCRIPTION:BFAC Monthly Club meeting\nOpen to all members and non members \n\nHave an idea for the club\nWant to get involved\nNeed information about becoming a member\n\nThis is your place to be heard. We love fresh ideas and to meet with all of the members. \nCome join us in person at the main Pavilion at 8:00 AM on the first Saturday of every month.\nKeep an eye out for the meeting agenda email the week of the upcoming meeting. \nCan’t make it? Join us virtually using the Zoom link below:\nZoom meeting \n  \nSee you there! \n-BFAC-
URL:https://buffalofield.org/event/monthly-club-meeting-2/2021-11-06/
LOCATION:Buffalo Archery Field\, 13155 Clay Rd\, Houston\, TX\, 77084\, United States
END:VEVENT
BEGIN:VEVENT
DTSTART;TZID=America/Chicago:20211030T080000
DTEND;TZID=America/Chicago:20211030T120000
DTSTAMP:20260420T001101
CREATED:20210417T152401Z
LAST-MODIFIED:20210417T153155Z
UID:10000083-1635580800-1635595200@buffalofield.org
SUMMARY:Houston Area Outdoor JOAD - World Archery Range
DESCRIPTION:
URL:https://buffalofield.org/event/houston-area-outdoor-joad/2021-10-30/
LOCATION:Buffalo Archery Field\, 13155 Clay Rd\, Houston\, TX\, 77084\, United States
END:VEVENT
BEGIN:VEVENT
DTSTART;TZID=America/Chicago:20211023T080000
DTEND;TZID=America/Chicago:20211023T120000
DTSTAMP:20260420T001101
CREATED:20210417T152401Z
LAST-MODIFIED:20210417T153155Z
UID:10000082-1634976000-1634990400@buffalofield.org
SUMMARY:Houston Area Outdoor JOAD - World Archery Range
DESCRIPTION:
URL:https://buffalofield.org/event/houston-area-outdoor-joad/2021-10-23/
LOCATION:Buffalo Archery Field\, 13155 Clay Rd\, Houston\, TX\, 77084\, United States
END:VEVENT
BEGIN:VEVENT
DTSTART;TZID=America/Chicago:20211017T080000
DTEND;TZID=America/Chicago:20211017T150000
DTSTAMP:20260420T001101
CREATED:20210212T023255Z
LAST-MODIFIED:20210624T021919Z
UID:10000179-1634457600-1634482800@buffalofield.org
SUMMARY:BFAC 3D Club shoot
DESCRIPTION:
URL:https://buffalofield.org/event/bfac-3d-club-shoot-2021-07-18/2021-10-17/
LOCATION:Buffalo Archery Field\, 13155 Clay Rd\, Houston\, TX\, 77084\, United States
END:VEVENT
BEGIN:VEVENT
DTSTART;TZID=America/Chicago:20211016T080000
DTEND;TZID=America/Chicago:20211016T120000
DTSTAMP:20260420T001101
CREATED:20210417T152401Z
LAST-MODIFIED:20210417T153155Z
UID:10000081-1634371200-1634385600@buffalofield.org
SUMMARY:Houston Area Outdoor JOAD - World Archery Range
DESCRIPTION:
URL:https://buffalofield.org/event/houston-area-outdoor-joad/2021-10-16/
LOCATION:Buffalo Archery Field\, 13155 Clay Rd\, Houston\, TX\, 77084\, United States
END:VEVENT
BEGIN:VEVENT
DTSTART;TZID=America/Chicago:20211009T080000
DTEND;TZID=America/Chicago:20211009T120000
DTSTAMP:20260420T001101
CREATED:20210417T152401Z
LAST-MODIFIED:20210417T153155Z
UID:10000080-1633766400-1633780800@buffalofield.org
SUMMARY:Houston Area Outdoor JOAD - World Archery Range
DESCRIPTION:
URL:https://buffalofield.org/event/houston-area-outdoor-joad/2021-10-09/
LOCATION:Buffalo Archery Field\, 13155 Clay Rd\, Houston\, TX\, 77084\, United States
END:VEVENT
BEGIN:VEVENT
DTSTART;TZID=America/Chicago:20211002T080000
DTEND;TZID=America/Chicago:20211002T120000
DTSTAMP:20260420T001101
CREATED:20210417T152401Z
LAST-MODIFIED:20210417T153155Z
UID:10000079-1633161600-1633176000@buffalofield.org
SUMMARY:Houston Area Outdoor JOAD - World Archery Range
DESCRIPTION:
URL:https://buffalofield.org/event/houston-area-outdoor-joad/2021-10-02/
LOCATION:Buffalo Archery Field\, 13155 Clay Rd\, Houston\, TX\, 77084\, United States
END:VEVENT
BEGIN:VEVENT
DTSTART;TZID=America/Chicago:20211002T080000
DTEND;TZID=America/Chicago:20211002T090000
DTSTAMP:20260420T001101
CREATED:20210405T032241Z
LAST-MODIFIED:20210505T002917Z
UID:10000034-1633161600-1633165200@buffalofield.org
SUMMARY:Monthly Club Meeting
DESCRIPTION:BFAC Monthly Club meeting\nOpen to all members and non members \n\nHave an idea for the club\nWant to get involved\nNeed information about becoming a member\n\nThis is your place to be heard. We love fresh ideas and to meet with all of the members. \nCome join us in person at the main Pavilion at 8:00 AM on the first Saturday of every month.\nKeep an eye out for the meeting agenda email the week of the upcoming meeting. \nCan’t make it? Join us virtually using the Zoom link below:\nZoom meeting \n  \nSee you there! \n-BFAC-
URL:https://buffalofield.org/event/monthly-club-meeting-2/2021-10-02/
LOCATION:Buffalo Archery Field\, 13155 Clay Rd\, Houston\, TX\, 77084\, United States
END:VEVENT
BEGIN:VEVENT
DTSTART;TZID=America/Chicago:20210925T080000
DTEND;TZID=America/Chicago:20210925T120000
DTSTAMP:20260420T001101
CREATED:20210417T152401Z
LAST-MODIFIED:20210417T153155Z
UID:10000078-1632556800-1632571200@buffalofield.org
SUMMARY:Houston Area Outdoor JOAD - World Archery Range
DESCRIPTION:
URL:https://buffalofield.org/event/houston-area-outdoor-joad/2021-09-25/
LOCATION:Buffalo Archery Field\, 13155 Clay Rd\, Houston\, TX\, 77084\, United States
END:VEVENT
BEGIN:VEVENT
DTSTART;VALUE=DATE:20210924
DTEND;VALUE=DATE:20210927
DTSTAMP:20260420T001101
CREATED:20210520T172813Z
LAST-MODIFIED:20210522T210143Z
UID:10000224-1632441600-1632700799@buffalofield.org
SUMMARY:2021 Texas State Archery Association's Outdoor State Target Championship and JOAD State Outdoor Target Championship
DESCRIPTION:Buffalo Field Archery Club\, 13155 Clay Rd\, Houston Texas \nThis is a Star FITA tournament\, USA Archery rules and distances. \nRegistration: Click Here!\n\nLimited availability. Entry is on a first come first serve basis. No entry slots will be held. \n  \nAll JOADs and all Adults will shoot two rounds of 72 arrows each (144 arrows total). Final rankings based on total accumulated score. \n  \n\nFriday\, Sep 24 – 1 pm to 6 pm Practice Day\nSaturday\, Sep 25 – 9 am Round 1 – All Compound\nSaturday\, Sep 25 – 1:30 pm Round 1 – All Recurve\, Barebow\, Longbow & Asiatic\nSunday\, Sep 26 – 9 am Round 2 – All Recurve\, Barebow\, Longbow & Asiatic\nSunday\, Sep 26 – 1:30 pm Round 2 – All Compound\nCheck in and bow check: 1 hr prior to start time\n\n  \nFirst place in all divisions will determine Texas State Champion. TSAA medals will be awarded to all 1st\, 2nd and 3rd place in all divisions.  However larger TSAA State Champion prizes (still to be determined) will be awarded if and only if there are at least three entrants in that division prior to September 10. No exceptions. \n  \nWater and/or Gatorade will be available. Feel free to bring snacks. Please bring your own chairs and pop-up tents. We anticipate firing up our grill for hamburgers\, hot dogs and perhaps some BBQ and other assorted picnic items. \n  \nWhile we anticipate being able to return to normal shooting conditions for this event\, we will use some of our learned social distance practices during the event. \n\nRange will be open for official practice on Friday\, Sep 24\nNo informal practice at the WA range will be allowed on Saturday or Sunday. There will be bales available at the club’s Field Practice Range for blank bale style warm-up.\nThree (3) practice ends prior to first official arrow.\nWe will shoot UP TO two (2) archers per bale per line\, each spaced 1 m apart\, with two (2) lines shot in each time slot\, no matter the number of entries. If lack of entries allow\, we will space archers out as best possible to utilize the space available.\nWe will follow CDC guidelines regarding the use of masks. We ask all archers and spectators to be considerate and respectful of others\, while focusing on safety for all\n\nDistance: \n \n \n  \nHotel Information – Call the hotel directly and ask for the ARCHERY discount if available \n  \nComfort Suites Houston West At Clay Road  \n11440 Clay Rd Building A \nHouston\, TX 77041 \n832-426-1303 \n  \nHoliday Inn & Suites Houston West – Westway Park \n4606 Westway Park Blvd \nHouston\, TX 77041 \n713-996-8200 \n  \nLa Quinta Inn & Suites by Wyndham Houston West at Clay Road \n4424 Westway Park Blvd \nHouston\, TX 77041 \n713-939-1400 \n  \nResidence Inn by Marriott Houston West/Beltway 8 at Clay Road \n10421 Clay Rd\, Houston\, TX 77041 \n281-888-2465 \nStaybridge Suites Houston I-10 West-Beltway 8 \n3251 West Sam Houston Pkwy N\, Houston\, TX 77043 \n713-462-4720 \n—————————————————————————– \nNOTE: THERE ARE NEW ATHLETE SAFETY PROCEDURES IN PLACE FOR ALL USA ARCHERY SANCTIONED EVENTS!! \n\nAll “EVENT PERSONNEL” who are not current members of USA Archery\, AND who are required to enter the Field of Play on a routine basis\, are REQUIRED to:\n\n\nSign USA Archery Non-Athlete Pledge Form Non Athlete Pledge Form\nObtain a current US Center for SafeSport TrainingCertification;\nObtain a current USA Archery Background Screen; and\nVerity the above and Register with the Event Director on the Event Roster prior to entering “the field of play”\n\n\nEVENT PERSONNEL are all Volunteers\, Athlete Assistants\, Para Advocates & otherwise incapacitated Athlete’s Proxy\, Coaches\, Judges\, Parents of Athletes\, Vendors\, Photographers and other Media\, Medical Personnel\, etc.\n\n\nIf you are a Para & otherwise incapacitated Athlete who needs a routine Proxy to assist you with arrow retrieval or scoring assistance\, you must bring your own Proxy with you\, and he/she must be certified in advance by the above procedures. Contact our Event Staff IN ADVANCE if you need the event to assist you with finding a Proxy.\n\n  \n\nFIELD OF PLAY is designated as that area IN FRONT OF the Spectator Line\, and includes the Competitor Area\, the Waiting Area\, the Shooting Line\, the Target Lanes with Target Bales.\n\n \n\nEXCEPTIONS can be made by the Event Director for periodic\, non-routine entering of the Field of Play in full sight of Event Director and/or his staff. This could be NON-ROUTINE assistance by a parent for scoring or athlete assistance. Please check with the Event Director or Event Staff before entering the Field of Play.\n\n  \n\nAll ATHLETES and EVENT PERSONNEL must adhere to the Minor Athlete Abuse Prevention Policies[MAAPP] for the duration of the event. Please check the MAAPP link and read in advance. All ATHLETES and EVENT PERSONNEL will be required to agree to this policy upon check-in\n\n  \nSee you on the field!
URL:https://buffalofield.org/event/2021-texas-state-archery-associations-outdoor-state-target-championship-and-joad-state-outdoor-target-championship/
LOCATION:Buffalo Archery Field\, 13155 Clay Rd\, Houston\, TX\, 77084\, United States
ATTACH;FMTTYPE=image/gif:https://buffalofield.org/wp-content/uploads/2021/05/NEWTSAALOGO.gif
ORGANIZER;CN="BFAC Target Directors":MAILTO:target@buffalofield.org
END:VEVENT
END:VCALENDAR