BEGIN:VCALENDAR
VERSION:2.0
PRODID:-//Buffalo Field Archery Club - ECPv6.15.20//NONSGML v1.0//EN
CALSCALE:GREGORIAN
METHOD:PUBLISH
X-WR-CALNAME:Buffalo Field Archery Club
X-ORIGINAL-URL:https://buffalofield.org
X-WR-CALDESC:Events for Buffalo Field Archery Club
REFRESH-INTERVAL;VALUE=DURATION:PT1H
X-Robots-Tag:noindex
X-PUBLISHED-TTL:PT1H
BEGIN:VTIMEZONE
TZID:America/Chicago
BEGIN:DAYLIGHT
TZOFFSETFROM:-0600
TZOFFSETTO:-0500
TZNAME:CDT
DTSTART:20200308T080000
END:DAYLIGHT
BEGIN:STANDARD
TZOFFSETFROM:-0500
TZOFFSETTO:-0600
TZNAME:CST
DTSTART:20201101T070000
END:STANDARD
BEGIN:DAYLIGHT
TZOFFSETFROM:-0600
TZOFFSETTO:-0500
TZNAME:CDT
DTSTART:20210314T080000
END:DAYLIGHT
BEGIN:STANDARD
TZOFFSETFROM:-0500
TZOFFSETTO:-0600
TZNAME:CST
DTSTART:20211107T070000
END:STANDARD
BEGIN:DAYLIGHT
TZOFFSETFROM:-0600
TZOFFSETTO:-0500
TZNAME:CDT
DTSTART:20220313T080000
END:DAYLIGHT
BEGIN:STANDARD
TZOFFSETFROM:-0500
TZOFFSETTO:-0600
TZNAME:CST
DTSTART:20221106T070000
END:STANDARD
END:VTIMEZONE
BEGIN:VTIMEZONE
TZID:UTC
BEGIN:STANDARD
TZOFFSETFROM:+0000
TZOFFSETTO:+0000
TZNAME:UTC
DTSTART:20200101T000000
END:STANDARD
END:VTIMEZONE
BEGIN:VEVENT
DTSTART;VALUE=DATE:20210320
DTEND;VALUE=DATE:20210322
DTSTAMP:20260420T020553
CREATED:20210119T035549Z
LAST-MODIFIED:20210215T041119Z
UID:10000164-1616198400-1616371199@buffalofield.org
SUMMARY:Texas ASA Qualifier - Fredricksberg Archery Club - Fredricksberg\, TX
DESCRIPTION:
URL:https://buffalofield.org/event/texas-asa-shoot-21/
LOCATION:TX
END:VEVENT
BEGIN:VEVENT
DTSTART;VALUE=DATE:20210313
DTEND;VALUE=DATE:20210315
DTSTAMP:20260420T020553
CREATED:20210119T035549Z
LAST-MODIFIED:20210215T041256Z
UID:10000152-1615593600-1615766399@buffalofield.org
SUMMARY:Texas ASA Qualifier - Tyler Archery Club - Tyler\, TX
DESCRIPTION:
URL:https://buffalofield.org/event/texas-asa-shoot-20/
LOCATION:TX
END:VEVENT
BEGIN:VEVENT
DTSTART;VALUE=DATE:20210306
DTEND;VALUE=DATE:20210308
DTSTAMP:20260420T020553
CREATED:20210119T035434Z
LAST-MODIFIED:20210215T041943Z
UID:10000159-1614988800-1615161599@buffalofield.org
SUMMARY:Texas ASA Qualifier - Cowtown Bowmen Archery Club - Fort Worth\, TX
DESCRIPTION:
URL:https://buffalofield.org/event/texas-asa-shoot-2/
LOCATION:TX
END:VEVENT
BEGIN:VEVENT
DTSTART;TZID=America/Chicago:20210221T080000
DTEND;TZID=America/Chicago:20210221T150000
DTSTAMP:20260420T020553
CREATED:20210212T023255Z
LAST-MODIFIED:20221214T195934Z
UID:10000170-1613894400-1613919600@buffalofield.org
SUMMARY:BFAC 3D Club shoot
DESCRIPTION:
URL:https://buffalofield.org/event/bfac-3d-club-shoot/2021-02-21/
LOCATION:Buffalo Archery Field\, 13155 Clay Rd\, Houston\, TX\, 77084\, United States
END:VEVENT
BEGIN:VEVENT
DTSTART;TZID=America/Chicago:20210220T080000
DTEND;TZID=America/Chicago:20210220T120000
DTSTAMP:20260420T020553
CREATED:20210215T042421Z
LAST-MODIFIED:20210215T042753Z
UID:10000180-1613808000-1613822400@buffalofield.org
SUMMARY:Open House
DESCRIPTION:
URL:https://buffalofield.org/event/open-house-4/
LOCATION:TX
END:VEVENT
BEGIN:VEVENT
DTSTART;TZID=America/Chicago:20210206T000000
DTEND;TZID=America/Chicago:20210208T000000
DTSTAMP:20260420T020553
CREATED:20210119T035449Z
LAST-MODIFIED:20210215T042033Z
UID:10000160-1612569600-1612742400@buffalofield.org
SUMMARY:Texas ASA Qualifier
DESCRIPTION:
URL:https://buffalofield.org/event/texas-asa-shoot-4/
LOCATION:TX
END:VEVENT
BEGIN:VEVENT
DTSTART;TZID=America/Chicago:20210131T130000
DTEND;TZID=America/Chicago:20210131T210000
DTSTAMP:20260420T020553
CREATED:20210119T035549Z
LAST-MODIFIED:20210215T042056Z
UID:10000151-1612098000-1612126800@buffalofield.org
SUMMARY:Texas ASA Qualifier
DESCRIPTION:
URL:https://buffalofield.org/event/texas-asa-shoot-19/
LOCATION:TX
END:VEVENT
BEGIN:VEVENT
DTSTART;TZID=America/Chicago:20210130T070000
DTEND;TZID=America/Chicago:20210130T140000
DTSTAMP:20260420T020553
CREATED:20210119T035549Z
LAST-MODIFIED:20210123T000226Z
UID:10000142-1611990000-1612015200@buffalofield.org
SUMMARY:Texas ASA Qualifier
DESCRIPTION:
URL:https://buffalofield.org/event/texas-asa-shoot-18/
LOCATION:Buffalo Archery Field\, 13155 Clay Rd\, Houston\, TX\, 77084\, United States
END:VEVENT
BEGIN:VEVENT
DTSTART;VALUE=DATE:20210124
DTEND;VALUE=DATE:20210125
DTSTAMP:20260420T020553
CREATED:20210116T110117Z
LAST-MODIFIED:20210120T153610Z
UID:10000049-1611446400-1611532799@buffalofield.org
SUMMARY:Monthly 3D club Shoot
DESCRIPTION:Monthly Club Shoot
URL:https://buffalofield.org/event/monthly-3d-club-shoot/
LOCATION:Buffalo Archery Field\, 13155 Clay Rd\, Houston\, TX\, 77084\, United States
END:VEVENT
BEGIN:VEVENT
DTSTART;TZID=America/Chicago:20210109T140000
DTEND;TZID=America/Chicago:20210109T180000
DTSTAMP:20260420T020553
CREATED:20210119T035619Z
LAST-MODIFIED:20210119T035619Z
UID:10000163-1610200800-1610215200@buffalofield.org
SUMMARY:BFAC 3D course Work Party Planning
DESCRIPTION:
URL:https://buffalofield.org/event/bfac-3d-course-work-party-planning/
LOCATION:TX
END:VEVENT
BEGIN:VEVENT
DTSTART;TZID=America/Chicago:20210106T214500
DTEND;TZID=America/Chicago:20210106T224500
DTSTAMP:20260420T020553
CREATED:20210119T035619Z
LAST-MODIFIED:20210119T035619Z
UID:10000169-1609969500-1609973100@buffalofield.org
SUMMARY:Open House
DESCRIPTION:
URL:https://buffalofield.org/event/open-house-3/
LOCATION:TX
END:VEVENT
BEGIN:VEVENT
DTSTART;TZID=America/Chicago:20210102T140000
DTEND;TZID=America/Chicago:20210102T180000
DTSTAMP:20260420T020553
CREATED:20210119T035619Z
LAST-MODIFIED:20210119T035619Z
UID:10000156-1609596000-1609610400@buffalofield.org
SUMMARY:Work Party
DESCRIPTION:
URL:https://buffalofield.org/event/work-party-5/
LOCATION:TX
END:VEVENT
END:VCALENDAR