BEGIN:VCALENDAR
VERSION:2.0
PRODID:-//Buffalo Field Archery Club - ECPv6.15.20//NONSGML v1.0//EN
CALSCALE:GREGORIAN
METHOD:PUBLISH
X-WR-CALNAME:Buffalo Field Archery Club
X-ORIGINAL-URL:https://buffalofield.org
X-WR-CALDESC:Events for Buffalo Field Archery Club
REFRESH-INTERVAL;VALUE=DURATION:PT1H
X-Robots-Tag:noindex
X-PUBLISHED-TTL:PT1H
BEGIN:VTIMEZONE
TZID:America/Chicago
BEGIN:DAYLIGHT
TZOFFSETFROM:-0600
TZOFFSETTO:-0500
TZNAME:CDT
DTSTART:20220313T080000
END:DAYLIGHT
BEGIN:STANDARD
TZOFFSETFROM:-0500
TZOFFSETTO:-0600
TZNAME:CST
DTSTART:20221106T070000
END:STANDARD
BEGIN:DAYLIGHT
TZOFFSETFROM:-0600
TZOFFSETTO:-0500
TZNAME:CDT
DTSTART:20230312T080000
END:DAYLIGHT
BEGIN:STANDARD
TZOFFSETFROM:-0500
TZOFFSETTO:-0600
TZNAME:CST
DTSTART:20231105T070000
END:STANDARD
BEGIN:DAYLIGHT
TZOFFSETFROM:-0600
TZOFFSETTO:-0500
TZNAME:CDT
DTSTART:20240310T080000
END:DAYLIGHT
BEGIN:STANDARD
TZOFFSETFROM:-0500
TZOFFSETTO:-0600
TZNAME:CST
DTSTART:20241103T070000
END:STANDARD
END:VTIMEZONE
BEGIN:VEVENT
DTSTART;TZID=America/Chicago:20230708T080000
DTEND;TZID=America/Chicago:20230709T170000
DTSTAMP:20260421T064437
CREATED:20230620T224352Z
LAST-MODIFIED:20230630T230825Z
UID:10000384-1688803200-1688922000@buffalofield.org
SUMMARY:BFAC 75th anniversary field shoot.
DESCRIPTION:BFAC 75th anniversary field shoot\n\nJoin us to celebrate our clubs 75th anniversary!\nWhen:\nJuly 8th and 9th\nShooting time: 9am: Sat\,  8am:  Sun \nWhere:\nBuffalo Archery Field course \nWhat:\nNFAA style and scoring will be recognized\nAdults $26.00\, Under 18 $17.00 \nThis is a 2 day shoot.\nDay 1: 28 target hunter round\nDay 2: Animal round (bonus dots in play!) \n  \nSee you on the field!\n  \n 
URL:https://buffalofield.org/event/bfac-75th-anniversary-field-shoot-2/
LOCATION:Buffalo Archery Field\, 13155 Clay Rd\, Houston\, TX\, 77084\, United States
ATTACH;FMTTYPE=image/png:https://buffalofield.org/wp-content/uploads/2023/02/BFAC_AnniversaryLogo.png
ORGANIZER;CN="BFAC Field Director":MAILTO:dwallen3@netzero.net
END:VEVENT
END:VCALENDAR