BEGIN:VCALENDAR
VERSION:2.0
PRODID:-//Buffalo Field Archery Club - ECPv6.15.20//NONSGML v1.0//EN
CALSCALE:GREGORIAN
METHOD:PUBLISH
X-WR-CALNAME:Buffalo Field Archery Club
X-ORIGINAL-URL:https://buffalofield.org
X-WR-CALDESC:Events for Buffalo Field Archery Club
REFRESH-INTERVAL;VALUE=DURATION:PT1H
X-Robots-Tag:noindex
X-PUBLISHED-TTL:PT1H
BEGIN:VTIMEZONE
TZID:America/Chicago
BEGIN:DAYLIGHT
TZOFFSETFROM:-0600
TZOFFSETTO:-0500
TZNAME:CDT
DTSTART:20220313T080000
END:DAYLIGHT
BEGIN:STANDARD
TZOFFSETFROM:-0500
TZOFFSETTO:-0600
TZNAME:CST
DTSTART:20221106T070000
END:STANDARD
BEGIN:DAYLIGHT
TZOFFSETFROM:-0600
TZOFFSETTO:-0500
TZNAME:CDT
DTSTART:20230312T080000
END:DAYLIGHT
BEGIN:STANDARD
TZOFFSETFROM:-0500
TZOFFSETTO:-0600
TZNAME:CST
DTSTART:20231105T070000
END:STANDARD
BEGIN:DAYLIGHT
TZOFFSETFROM:-0600
TZOFFSETTO:-0500
TZNAME:CDT
DTSTART:20240310T080000
END:DAYLIGHT
BEGIN:STANDARD
TZOFFSETFROM:-0500
TZOFFSETTO:-0600
TZNAME:CST
DTSTART:20241103T070000
END:STANDARD
END:VTIMEZONE
BEGIN:VEVENT
DTSTART;TZID=America/Chicago:20230617T090000
DTEND;TZID=America/Chicago:20230617T150000
DTSTAMP:20260421T082219
CREATED:20230515T155530Z
LAST-MODIFIED:20230515T155530Z
UID:10000383-1686992400-1687014000@buffalofield.org
SUMMARY:Hunters Education / Bowhunter Education
DESCRIPTION:PT Outdoors and Buffalo Filed Archery welcomes you to a day of learning in the outdoors. \nThis is your opportunity to receive everything needed for your TPWD Hunters Education Certificate and Bowhunters Education Certificate. Each class is $15\, please register online. \n  \nHunter Education Class \nGoogle search “TPWD 1524138” or follow the class link: \nHunter Education Classroom Course – 06/17/2023 – (1524138) \n \nBowhunter Education Class \nGoogle search “TPWD 1524142” or follow the class link: \nBowhunter Education Classroom Course – 06/17/2023 – (1524142) \n \n \n 
URL:https://buffalofield.org/event/hunters-education-bowhunter-education/
LOCATION:Buffalo Archery Field\, 13155 Clay Rd\, Houston\, TX\, 77084\, United States
END:VEVENT
END:VCALENDAR